BEGIN:VCALENDAR
VERSION:2.0
PRODID:-//hacksw/handcal//NONSGML v1.0//EN
CALSCALE:GREGORIAN
BEGIN:VEVENT
DTEND;VALUE=DATE:20240511
UID:608850b789b75
DTSTAMP:20210427T135815Z
LOCATION:Orlando\, Florida\, United States\, 
TITLE:NPE2024: The Plastics Show
SUMMARY:NPE2024: The Plastics Show
DTSTART;VALUE=DATE:20240506
END:VEVENT
END:VCALENDAR